BEGIN:VCALENDAR
VERSION:2.0
PRODID:-//ChamberMaster//Event Calendar 2.0//EN
METHOD:PUBLISH
X-PUBLISHED-TTL:P1H
REFRESH-INTERVAL:P1H
CALSCALE:GREGORIAN
BEGIN:VTIMEZONE
TZID:America/Los_Angeles
BEGIN:DAYLIGHT
RRULE:FREQ=YEARLY;BYMONTH=3;BYDAY=2SU
DTSTART:20070101T000000
TZOFFSETFROM:-0800
TZOFFSETTO:-0700
TZNAME:Pacific Daylight Time
END:DAYLIGHT
BEGIN:STANDARD
RRULE:FREQ=YEARLY;BYMONTH=11;BYDAY=1SU
DTSTART:20070101T000000
TZOFFSETFROM:-0700
TZOFFSETTO:-0800
TZNAME:Pacific Standard Time
END:STANDARD
END:VTIMEZONE
BEGIN:VEVENT
DTSTART;TZID=America/Los_Angeles:20240207T093000
DTEND;TZID=America/Los_Angeles:20240207T123000
X-MICROSOFT-CDO-ALLDAYEVENT:FALSE
SUMMARY:NEW! Title & Escrow 101 (In-Person Training\, 02/07/2024)
DESCRIPTION:Cost: *Members $30.00 & Non-Members $55.00\, 3 Clock Hours.Breakfast/Refreshments Sponsored by: Tommy Velasquez\, American Home ShieldExplore the fundamental concepts of real estate title and escrow!\nLearn about:Critical roles of title insuranceComponents of a title reportClearing titlePossible title issuesEscrow process in real estate transactions.Deepen your understanding of the role of title insurance\, the contents of a title report and their effect on real estate transactions. You'll learn how the law\, regulations\, and everyday practices effect the closing and escrow process of real estate transactions. This course will equip you with essential title and escrow knowledge to help your clients navigate property purchases and sales confidently._______IMPORTANT! Attendance requirements: This is an in-person training. To receive CE credit\, attendees must sign-in and attend the full duration of class. Those who arrive more than 30 minutes late to the session will not be eligible to receive CE credit.Instructor Randy Cornwall is the President of NexTitle Puget Sound. Randy is an active member of the Washington State Bar Association and is licensed by the Washington State Department of Financial Institutions as a Designated Escrow Officer and the Washington State Department of Licensing as a real estate Managing Broker. Randy is also a licensed continuing education instructor. Randy has founded\, owned\, and operated three independent escrow companies and has performed and supervised over ten-thousand real estate transactions in his career. His hobbies include skiing\, coaching\, and rooting for the Seahawks\, Mariners\, Huskies and Kraken.*Only Active REALTOR  members of SKCR are eligible to receive Member price online. If you are a REALTOR  member of another Association\, you are eligible to receive Member price. Please call the Association office at 425-974-1011 to register.Cancellation Policy:\n*Pre-registration required. Only Pre-Paid registrants will guarantee reservation.\n(Cancellations must be made 24 hours in advance of scheduled class for refund)
X-ALT-DESC;FMTTYPE=text/html:<!DOCTYPE html><html><head><title></title></head><body aria-disabled="false"><p style="line-height: normal\; background: white\; vertical-align: baseline\;"><strong fr-original-style="" style="font-weight: 700\;">Cost: *Members $30.00 &amp\; Non-Members $55.00\, 3 Clock Hours.</strong></p><p style="line-height: normal\; background: white\; vertical-align: baseline\;"><strong fr-original-style="" style="font-weight: 700\;">Breakfast/Refreshments Sponsored by:&nbsp\;</strong>Tommy Velasquez\, American Home Shield</p><p style="margin-bottom: 0in\; line-height: normal\; background: white\; vertical-align: baseline\;">Explore the fundamental concepts of real estate title and escrow!</p><p style="margin-bottom: 0in\; line-height: normal\; background: white\; vertical-align: baseline\;"><br>Learn about:</p><ul fr-original-style="margin-top: 0in\;" style="margin-top: 0in\; list-style-position: inside\;" type="disc"><li style="color: rgb(0\, 0\, 0)\; margin-bottom: 0in\; line-height: normal\; background: white\; vertical-align: baseline\;">Critical roles of title insurance</li><li style="color: rgb(0\, 0\, 0)\; margin-bottom: 0in\; line-height: normal\; background: white\; vertical-align: baseline\;">Components of a title report</li><li style="color: rgb(0\, 0\, 0)\; margin-bottom: 0in\; line-height: normal\; background: white\; vertical-align: baseline\;">Clearing title</li><li style="color: rgb(0\, 0\, 0)\; margin-bottom: 0in\; line-height: normal\; background: white\; vertical-align: baseline\;">Possible title issues</li><li style="color: rgb(0\, 0\, 0)\; margin-bottom: 0in\; line-height: normal\; background: white\; vertical-align: baseline\;">Escrow process in real estate transactions.</li></ul><p style="margin-bottom: 0in\; line-height: normal\; background: white\; vertical-align: baseline\;">Deepen your understanding of the role of title insurance\, the contents of a title report and their effect on real estate transactions. You&rsquo\;ll learn how the law\, regulations\, and everyday practices effect the closing and escrow process of real estate transactions. This course will equip you with essential title and escrow knowledge to help your clients navigate property purchases and sales confidently.</p><p style="background:white\;vertical-align:baseline\;">_______</p><p><strong fr-original-style="" style="font-weight: 700\;">IMPORTANT! Attendance requirements:</strong> This is an in-person training. To receive CE credit\, attendees must sign-in and attend the full duration of class. Those who arrive more than 30 minutes late to the session will not be eligible to receive CE credit.</p><hr fr-original-style="" style="clear: both\; user-select: none\; break-after: page\;"><p><strong fr-original-style="" style="font-weight: 700\;">Instructor Randy Cornwall&nbsp\;</strong>is the President of NexTitle Puget Sound. Randy is an active member of the Washington State Bar Association and is licensed by the Washington State Department of Financial Institutions as a Designated Escrow Officer and the Washington State Department of Licensing as a real estate Managing Broker. Randy is also a licensed continuing education instructor. Randy has founded\, owned\, and operated three independent escrow companies and has performed and supervised over ten-thousand real estate transactions in his career. His hobbies include skiing\, coaching\, and rooting for the Seahawks\, Mariners\, Huskies and Kraken.</p><p style="line-height: normal\; background: white\; vertical-align: baseline\;"><em>*Only Active REALTOR&reg\; members of SKCR are eligible to receive Member price online. If you are a REALTOR&reg\; member of another Association\, you are eligible to receive Member price. Please call the Association office at 425-974-1011 to register.</em></p><p><strong fr-original-style="" style="font-weight: 700\;"><span style="font-size: 18px\;">Cancellation Policy:</span></strong><strong fr-original-style="" style="font-weight: 700\;"><br></strong>*Pre-registration required. Only Pre-Paid registrants will guarantee reservation.<br><em><strong fr-original-style="" style="font-weight: 700\;">(Cancellations must be made 24 hours in advance of scheduled class for refund)</strong></em></p></body></html>
LOCATION:12410 SE 32nd St Suite 100 Bellevue WA 98005
UID:e.3524.907165
SEQUENCE:3
DTSTAMP:20260424T171841Z
URL:https://members.nwrealtor.com/education-calendar/Details/new-title-escrow-101-in-person-training-02-07-2024-1023809?sourceTypeId=Hub
END:VEVENT
END:VCALENDAR
